BEGIN:VCALENDAR
VERSION:2.0
PRODID:icalendar-ruby
CALSCALE:GREGORIAN
METHOD:PUBLISH
BEGIN:VEVENT
DTSTAMP:20260424T152747Z
UID:16-1317241@cfchampton.org
DTSTART:20261106T030000Z
DTEND:20261106T040000Z
CLASS:PUBLIC
CREATED:20260424T081122
DESCRIPTION:
LAST-MODIFIED:20260424T081122
LOCATION:906 3rd St NE\, Hampton\, SC 29924
SUMMARY:Worship
URL;VALUE=URI:https://www.cfchampton.org/events/worship/2026-11-05
END:VEVENT
END:VCALENDAR
