BEGIN:VCALENDAR
VERSION:2.0
PRODID:icalendar-ruby
CALSCALE:GREGORIAN
METHOD:PUBLISH
BEGIN:VEVENT
DTSTAMP:20260424T135218Z
UID:16-1316769@cfchampton.org
DTSTART:20261030T020000Z
DTEND:20261030T030000Z
CLASS:PUBLIC
CREATED:20260424T051832
DESCRIPTION:
LAST-MODIFIED:20260424T051832
LOCATION:906 3rd St NE\, Hampton\, SC 29924
SUMMARY:Worship
URL;VALUE=URI:https://www.cfchampton.org/events/worship/2026-10-29
END:VEVENT
END:VCALENDAR
