BEGIN:VCALENDAR
VERSION:2.0
PRODID:icalendar-ruby
CALSCALE:GREGORIAN
METHOD:PUBLISH
BEGIN:VEVENT
DTSTAMP:20260424T092606Z
UID:16-1316296@cfchampton.org
DTSTART:20261009T020000Z
DTEND:20261009T030000Z
CLASS:PUBLIC
CREATED:20260423T195016
DESCRIPTION:
LAST-MODIFIED:20260423T195016
LOCATION:906 3rd St NE\, Hampton\, SC 29924
SUMMARY:Worship
URL;VALUE=URI:https://www.cfchampton.org/events/worship/2026-10-08
END:VEVENT
END:VCALENDAR
