BEGIN:VCALENDAR
VERSION:2.0
PRODID:icalendar-ruby
CALSCALE:GREGORIAN
METHOD:PUBLISH
BEGIN:VEVENT
DTSTAMP:20260423T200617Z
UID:5-1314798@cfchampton.org
DTSTART:20261101T180000Z
DTEND:20261101T200000Z
CLASS:PUBLIC
CREATED:20260423T110702
DESCRIPTION:Sunday Worship
LAST-MODIFIED:20260423T110702
LOCATION:
SUMMARY:Sunday Worship
URL;VALUE=URI:https://www.cfchampton.org/events/sunday-worship/2026-11-01
END:VEVENT
END:VCALENDAR
