BEGIN:VCALENDAR
VERSION:2.0
PRODID:icalendar-ruby
CALSCALE:GREGORIAN
METHOD:PUBLISH
BEGIN:VEVENT
DTSTAMP:20260421T191736Z
UID:5-1309149@cfchampton.org
DTSTART:20260830T170000Z
DTEND:20260830T190000Z
CLASS:PUBLIC
CREATED:20260421T101812
DESCRIPTION:Sunday Worship
LAST-MODIFIED:20260421T101812
LOCATION:
SUMMARY:Sunday Worship
URL;VALUE=URI:https://www.cfchampton.org/events/sunday-worship/2026-08-30
END:VEVENT
END:VCALENDAR
