BEGIN:VCALENDAR
VERSION:2.0
PRODID:icalendar-ruby
CALSCALE:GREGORIAN
METHOD:PUBLISH
BEGIN:VEVENT
DTSTAMP:20260421T160731Z
UID:5-1308677@cfchampton.org
DTSTART:20260816T170000Z
DTEND:20260816T190000Z
CLASS:PUBLIC
CREATED:20260421T073833
DESCRIPTION:Sunday Worship
LAST-MODIFIED:20260421T073833
LOCATION:
SUMMARY:Sunday Worship
URL;VALUE=URI:https://www.cfchampton.org/events/sunday-worship/2026-08-16
END:VEVENT
END:VCALENDAR
