BEGIN:VCALENDAR
VERSION:2.0
PRODID:icalendar-ruby
CALSCALE:GREGORIAN
METHOD:PUBLISH
BEGIN:VEVENT
DTSTAMP:20260421T143846Z
UID:5-1308676@cfchampton.org
DTSTART:20260809T170000Z
DTEND:20260809T190000Z
CLASS:PUBLIC
CREATED:20260421T073833
DESCRIPTION:Sunday Worship
LAST-MODIFIED:20260421T073833
LOCATION:
SUMMARY:Sunday Worship
URL;VALUE=URI:https://www.cfchampton.org/events/sunday-worship/2026-08-09
END:VEVENT
END:VCALENDAR
