BEGIN:VCALENDAR
VERSION:2.0
PRODID:icalendar-ruby
CALSCALE:GREGORIAN
METHOD:PUBLISH
BEGIN:VEVENT
DTSTAMP:20260421T114229Z
UID:5-1307734@cfchampton.org
DTSTART:20260726T170000Z
DTEND:20260726T190000Z
CLASS:PUBLIC
CREATED:20260420T175616
DESCRIPTION:Sunday Worship
LAST-MODIFIED:20260420T175616
LOCATION:
SUMMARY:Sunday Worship
URL;VALUE=URI:https://www.cfchampton.org/events/sunday-worship/2026-07-26
END:VEVENT
END:VCALENDAR
